BEGIN:VCALENDAR
TZID:
BEGIN:VEVENT
CLASS:PUBLIC
CREATED:20260422T160036
DESCRIPTION:<span style="font-weight: 400;">The Art Center Highland Park (TAC) proudly announces the opening of </span><i><span style="font-weight: 400;">ORIGINALS</span></i><span style="font-weight: 400;">, a landmark exhibition celebrating boundary‑pushing creativity across generations. The public is invited to the opening reception on </span><b>Friday, May 15 at 6:00 PM</b><span style="font-weight: 400;">, an evening that brings together world‑class visual art, iconic Chicago cultural history, and an unforgettable live performance by one of the most influential jazz artists of our time.</span>\n\n<span style="font-weight: 400;">At the heart of </span><i><span style="font-weight: 400;">ORIGINALS</span></i><span style="font-weight: 400;"> is a major presentation of photography by internationally acclaimed artist </span><b>Sandro Miller</b><span style="font-weight: 400;">, whose emotionally charged, visually arresting work has shaped contemporary portraiture. Miller’s images—known for their cinematic depth and human precision—anchor the exhibition with a powerful exploration of identity, presence, and artistic truth.</span>\n\n<span style="font-weight: 400;">Complementing Miller’s work is a curated selection of pieces by members of </span><b>The Hairy Who</b><span style="font-weight: 400;">, the legendary Chicago art group whose irreverent, wildly imaginative style helped define the city’s avant‑garde movement of the 1960s. Their inclusion underscores TAC’s commitment to honoring Chicago’s artistic lineage while fostering dialogue with today’s creative voices.</span>\n\n<span style="font-weight: 400;">The evening will also feature a </span><b>special one‑hour concert by world‑renowned jazz innovator Kahil El’Zabar</b><span style="font-weight: 400;">, whose visionary approach to rhythm and improvisation has made him a global ambassador for Chicago’s creative music tradition. El’Zabar’s performance will transform the galleries into a living, breathing soundscape—an experience that embodies the spirit of originality the exhibition celebrates.</span>\n\n<span style="font-weight: 400;">“</span><i><span style="font-weight: 400;">ORIGINALS</span></i><span style="font-weight: 400;"> is more than an exhibition—it’s a statement about who we are and what the North Shore can be when we champion bold ideas and authentic artistic expression,” said James, Executive Director of The Art Center Highland Park. “This is a rare opportunity for our community to engage with artists who have shaped cultural conversations locally, nationally, and internationally.”</span>\n\n<b>Event Details:</b><span style="font-weight: 400;">  </span>\n\n<b>Opening Reception:</b><span style="font-weight: 400;"> Friday, May 15, 6:00 PM</span>\n\n<b>Location:</b><span style="font-weight: 400;"> The Art Center Highland Park, 1957 Sheridan Rd, Highland Park, IL</span>\n\n<b>Gallery Hours:</b><span style="font-weight: 400;"> Monday–Saturday 10 AM–4 PM</span>\n\n<b>Admission:</b><span style="font-weight: 400;"> Free and open to the public</span>
DTEND:20260515T220000Z
DTSTAMP:20260422T160036
DTSTART:20260515T180000
LAST-MODIFIED:20091109T101015
LOCATION:The Art Center Highland Park, 1957 Sheridan Rd., , IL, 60035
SUMMARY;LANGUAGE=en-us:Originals: Opening Reception
BEGIN:VALARM
TRIGGER:-PT1440M
ACTION:DISPLAY
DESCRIPTION:Reminder
END:VALARM
END:VEVENT
END:VCALENDAR
