BEGIN:VCALENDAR
TZID:
BEGIN:VEVENT
CLASS:PUBLIC
CREATED:20260422T160113
DESCRIPTION:Registration starts for Spring Term 2026
DTEND:20260227T140000Z
DTSTAMP:20260422T160113
DTSTART:20260227T120000
LAST-MODIFIED:20091109T101015
LOCATION:, , , , 
SUMMARY;LANGUAGE=en-us:Spring Semester Registration Opens
BEGIN:VALARM
TRIGGER:-PT1440M
ACTION:DISPLAY
DESCRIPTION:Reminder
END:VALARM
END:VEVENT
END:VCALENDAR
