BEGIN:VCALENDAR
TZID:
BEGIN:VEVENT
CLASS:PUBLIC
CREATED:20260422T160145
DESCRIPTION:Second Session of Winter Semester 2026 Begins
DTEND:20260209T140000Z
DTSTAMP:20260422T160145
DTSTART:20260209T120000
LAST-MODIFIED:20091109T101015
LOCATION:, , , , 
SUMMARY;LANGUAGE=en-us:Winter Session 2 Starts
BEGIN:VALARM
TRIGGER:-PT1440M
ACTION:DISPLAY
DESCRIPTION:Reminder
END:VALARM
END:VEVENT
END:VCALENDAR
