BEGIN:VCALENDAR
TZID:
BEGIN:VEVENT
CLASS:PUBLIC
CREATED:20260422T175200
DESCRIPTION:
DTEND:20260306T200000Z
DTSTAMP:20260422T175200
DTSTART:20260306T173000
LAST-MODIFIED:20091109T101015
LOCATION:The Art Center Highland Park, 1957 Sheridan Road, , Illinois, 60035
SUMMARY;LANGUAGE=en-us:Artists Reception: KLAUBA
BEGIN:VALARM
TRIGGER:-PT1440M
ACTION:DISPLAY
DESCRIPTION:Reminder
END:VALARM
END:VEVENT
END:VCALENDAR
