BEGIN:VCALENDAR
TZID:
BEGIN:VEVENT
CLASS:PUBLIC
CREATED:20260422T142411
DESCRIPTION:An exhibition of works from the legendary painter and tattoo artist George Klauba.
DTEND:20260404T000000Z
DTSTAMP:20260422T142411
DTSTART:20260306T000000
LAST-MODIFIED:20091109T101015
LOCATION:, , , , 
SUMMARY;LANGUAGE=en-us:KLAUBA: An Exhibition
BEGIN:VALARM
TRIGGER:-PT1440M
ACTION:DISPLAY
DESCRIPTION:Reminder
END:VALARM
END:VEVENT
END:VCALENDAR
