BEGIN:VCALENDAR
TZID:
BEGIN:VEVENT
CLASS:PUBLIC
CREATED:20260422T175402
DESCRIPTION:An extension of Knitting Communities Together continues as Art Impact Project's regular programming with a focus on emotional wellness.  We are gathering to knit and crochet for a different non-profit in need of cold weather gear or blankets.  Group gathers from 6:00 - 8:00 p.m. with location rotating between Art Impact Project's office in Lake Bluff and the Art Center Highland Park.  Materials will be supplied.  We welcome new knitters, however not every session may have the same level of instruction available. We also welcome crocheters, however live instruction may not be available for new crocheters.
DTEND:20260302T200000Z
DTSTAMP:20260422T175402
DTSTART:20260302T180000
LAST-MODIFIED:20091109T101015
LOCATION:The Art Center Highland Park, 1957 Sheridan Road, , IL, 60035
SUMMARY;LANGUAGE=en-us:Knitting Communities Together
BEGIN:VALARM
TRIGGER:-PT1440M
ACTION:DISPLAY
DESCRIPTION:Reminder
END:VALARM
END:VEVENT
END:VCALENDAR
