BEGIN:VCALENDAR
TZID:
BEGIN:VEVENT
CLASS:PUBLIC
CREATED:20260422T195315
DESCRIPTION:
DTEND:20260107T000000Z
DTSTAMP:20260422T195315
DTSTART:20260107T000000
LAST-MODIFIED:20091109T101015
LOCATION:, , , , 
SUMMARY;LANGUAGE=en-us:Winter Semester Starts
BEGIN:VALARM
TRIGGER:-PT1440M
ACTION:DISPLAY
DESCRIPTION:Reminder
END:VALARM
END:VEVENT
END:VCALENDAR
