BEGIN:VCALENDAR
TZID:
BEGIN:VEVENT
CLASS:PUBLIC
CREATED:20260422T194943
DESCRIPTION:TAC will be offering Figure Drawing Drop-ins on select Tuesdays from 6:30 – 9 pm for the Summer Term. Drop-ins are held in the Cortesi Gallery. Participants are responsible for materials. <strong>TAC does not supply materials, </strong>but easels and drawing boards are available for use.\n\nDrop-ins are <strong>$20 for members</strong> and <strong>$25 for non-member</strong>s. <a href="https://theartcenterhp.org/membership-tac/"> Click here to become a TAC Member.</a>
DTEND:20260120T210000Z
DTSTAMP:20260422T194943
DTSTART:20260120T183000
LAST-MODIFIED:20091109T101015
LOCATION:The Art Center Highland Park, , , , 
SUMMARY;LANGUAGE=en-us:Figure Drawing Drop-in 
BEGIN:VALARM
TRIGGER:-PT1440M
ACTION:DISPLAY
DESCRIPTION:Reminder
END:VALARM
END:VEVENT
END:VCALENDAR
