BEGIN:VCALENDAR
TZID:
BEGIN:VEVENT
CLASS:PUBLIC
CREATED:20260422T194942
DESCRIPTION:
DTEND:20260119T234500Z
DTSTAMP:20260422T194942
DTSTART:20260119T000000
LAST-MODIFIED:20091109T101015
LOCATION:The Art Center Highland Park, , , , 
SUMMARY;LANGUAGE=en-us:TAC Closed for Martin Luther King Jr. Day
BEGIN:VALARM
TRIGGER:-PT1440M
ACTION:DISPLAY
DESCRIPTION:Reminder
END:VALARM
END:VEVENT
END:VCALENDAR
