BEGIN:VCALENDAR
TZID:
BEGIN:VEVENT
CLASS:PUBLIC
CREATED:20260422T174449
DESCRIPTION:
DTEND:20251201T000000Z
DTSTAMP:20260422T174449
DTSTART:20251201T000000
LAST-MODIFIED:20091109T101015
LOCATION:, , , , 
SUMMARY;LANGUAGE=en-us:Winter Minis Start
BEGIN:VALARM
TRIGGER:-PT1440M
ACTION:DISPLAY
DESCRIPTION:Reminder
END:VALARM
END:VEVENT
END:VCALENDAR
