BEGIN:VCALENDAR
TZID:
BEGIN:VEVENT
CLASS:PUBLIC
CREATED:20260421T190636
DESCRIPTION:Theme: Poetry from the Dark Side\n\nA ghostly gathering of poetry and music, featuring Caroline Johnson president of Poets and Patrons and songwriter performer Bill Johnson.\n\nCome in costume if you dare and bring a verse to share! Open mic following feature.\n\nHosted by Lynn West
DTEND:20211030T150000Z
DTSTAMP:20260421T190636
DTSTART:20211030T130000
LAST-MODIFIED:20091109T101015
LOCATION:The Art Center Highland Park, 1957 Sheridan Rd, , IL, 60035
SUMMARY;LANGUAGE=en-us:Poetry at The Art Center
BEGIN:VALARM
TRIGGER:-PT1440M
ACTION:DISPLAY
DESCRIPTION:Reminder
END:VALARM
END:VEVENT
END:VCALENDAR
